BEGIN:VCALENDAR
VERSION:2.0
PRODID:icalendar-ruby
CALSCALE:GREGORIAN
METHOD:PUBLISH
BEGIN:VEVENT
DTSTAMP:20260419T181043Z
UID:6-308392@thesixth.tithelysetup2.com
DTSTART:20260920T140000Z
DTEND:20260920T153000Z
CLASS:PUBLIC
CREATED:20260317T114522
DESCRIPTION:
LAST-MODIFIED:20260317T114522
LOCATION:928 Felicity St. New Orleans\, LA 70130
SUMMARY:Sunday Worship
URL;VALUE=URI:https://thesixth.tithelysetup2.com/events/sunday-worship/2026
 -09-20
ATTACH;FILENAME=IMG_6242-2.JPG;FMTTYPE=image/jpeg:https://dq5pwpg1q8ru0.clo
 udfront.net/2026/03/17/16/45/22/f1ae60ab-35db-41ad-8312-a38297178612/IMG_6
 242-2.JPG
END:VEVENT
END:VCALENDAR
